BEGIN:VCALENDAR
VERSION:2.0
PRODID:-//Plone.org//NONSGML plone.app.event//EN
X-WR-TIMEZONE:Europe/Zurich
BEGIN:VEVENT
SUMMARY:Ende 1. Semester Schuljahr 2018/19
DTSTART;VALUE=DATE:20190131
DTEND;VALUE=DATE:20190202
DTSTAMP;VALUE=DATE-TIME:20260423T231655Z
UID:53fd76e596b04f199b9c4eb733c4f955@127.0.0.1:10150
CREATED;VALUE=DATE-TIME:20180928T123047Z
LAST-MODIFIED;VALUE=DATE-TIME:20180928T151130Z
URL:https://gymnasium.ai.ch/nuetzliches/termine/ende-1-semester-schuljahr-
 2018-19
END:VEVENT
END:VCALENDAR
