BEGIN:VCALENDAR
VERSION:2.0
PRODID:-//Plone.org//NONSGML plone.app.event//EN
X-WR-TIMEZONE:Europe/Zurich
BEGIN:VEVENT
SUMMARY:Ende 1. Semester Schuljahr 2019/20
DTSTART;VALUE=DATE:20200130
DTEND;VALUE=DATE:20200201
DTSTAMP;VALUE=DATE-TIME:20260423T231655Z
UID:fa083db6adb54ff2948ef50d2d090bee@127.0.0.1:10150
CREATED;VALUE=DATE-TIME:20190707T120654Z
LAST-MODIFIED;VALUE=DATE-TIME:20190707T120700Z
URL:https://gymnasium.ai.ch/nuetzliches/termine/ende-1-semester-schuljahr-
 2019-20
END:VEVENT
END:VCALENDAR
