BEGIN:VCALENDAR
VERSION:2.0
PRODID:-//Plone.org//NONSGML plone.app.event//EN
X-WR-TIMEZONE:Europe/Zurich
BEGIN:VEVENT
SUMMARY:Ende 1. Semester Schuljahr 2020/21
DTSTART;VALUE=DATE:20210128
DTEND;VALUE=DATE:20210130
DTSTAMP;VALUE=DATE-TIME:20260423T231605Z
UID:604deab5174a46b5a1020ea84a967190@127.0.0.1:10150
CREATED;VALUE=DATE-TIME:20200911T143732Z
LAST-MODIFIED;VALUE=DATE-TIME:20200911T143736Z
URL:https://gymnasium.ai.ch/nuetzliches/termine/ende-1-semester-schuljahr-
 2020-21
END:VEVENT
END:VCALENDAR
