BEGIN:VCALENDAR
VERSION:2.0
PRODID:-//Plone.org//NONSGML plone.app.event//EN
X-WR-TIMEZONE:Europe/Zurich
BEGIN:VEVENT
SUMMARY:Ende 1. Semester Schuljahr 2021/22
DTSTART;VALUE=DATE:20220127
DTEND;VALUE=DATE:20220129
DTSTAMP;VALUE=DATE-TIME:20260424T004911Z
UID:481361c3ae544a6b946d2f6c3fc2220e@127.0.0.1:10150
CREATED;VALUE=DATE-TIME:20211106T065415Z
LAST-MODIFIED;VALUE=DATE-TIME:20211106T065421Z
URL:https://gymnasium.ai.ch/nuetzliches/termine/ende-1-semester-schuljahr-
 2021-22-1
END:VEVENT
END:VCALENDAR
