BEGIN:VCALENDAR
VERSION:2.0
PRODID:-//Plone.org//NONSGML plone.app.event//EN
X-WR-TIMEZONE:Europe/Zurich
BEGIN:VEVENT
SUMMARY:Ende 1. Semester Schuljahr 2022/23
DTSTART;VALUE=DATE:20230127
DTEND;VALUE=DATE:20230128
DTSTAMP;VALUE=DATE-TIME:20260423T231700Z
UID:dccbc001a9f141b3b7007fd9e34daf48@127.0.0.1:6081
CREATED;VALUE=DATE-TIME:20220711T205129Z
LAST-MODIFIED;VALUE=DATE-TIME:20220711T205134Z
URL:https://gymnasium.ai.ch/nuetzliches/termine/ende-1-semester-schuljahr-
 2022-23
END:VEVENT
END:VCALENDAR
