BEGIN:VCALENDAR
VERSION:2.0
PRODID:-//Plone.org//NONSGML plone.app.event//EN
X-WR-TIMEZONE:Europe/Zurich
BEGIN:VEVENT
SUMMARY:Ende 1. Semester Schuljahr 2024/25
DTSTART;VALUE=DATE:20250131
DTEND;VALUE=DATE:20250201
DTSTAMP;VALUE=DATE-TIME:20260423T231701Z
UID:479f29f3fb0c42a8966b926afbe58470@127.0.0.1:6081
CREATED;VALUE=DATE-TIME:20240703T203629Z
LAST-MODIFIED;VALUE=DATE-TIME:20240703T203634Z
URL:https://gymnasium.ai.ch/nuetzliches/termine/ende-1-semester-schuljahr-
 2024-25
END:VEVENT
END:VCALENDAR
