BEGIN:VCALENDAR
VERSION:2.0
PRODID:-//Plone.org//NONSGML plone.app.event//EN
X-WR-TIMEZONE:Europe/Zurich
BEGIN:VEVENT
SUMMARY:Ende 1. Semester Schuljahr 2025/26
DTSTART;VALUE=DATE:20260130
DTEND;VALUE=DATE:20260131
DTSTAMP;VALUE=DATE-TIME:20260423T231657Z
UID:5dbc4162442243109b53df2e82549a0a@127.0.0.1:6081
CREATED;VALUE=DATE-TIME:20250719T213611Z
LAST-MODIFIED;VALUE=DATE-TIME:20250719T213617Z
URL:https://gymnasium.ai.ch/nuetzliches/termine/ende-1-semester-schuljahr-
 2025-26
END:VEVENT
END:VCALENDAR
