BEGIN:VCALENDAR
VERSION:2.0
PRODID:-//Plone.org//NONSGML plone.app.event//EN
X-WR-TIMEZONE:Europe/Zurich
BEGIN:VEVENT
SUMMARY:Ende 1. Semester
DTSTART;VALUE=DATE-TIME:20180126T160000Z
DTSTAMP;VALUE=DATE-TIME:20260423T231345Z
UID:98f8912718c14a9a8b48f6925b8a90e7@127.0.0.1:10150
CREATED;VALUE=DATE-TIME:20180109T144512Z
DESCRIPTION:Ende 1. Semester Schuljahr 2017/18
LAST-MODIFIED;VALUE=DATE-TIME:20180109T144532Z
URL:https://gymnasium.ai.ch/nuetzliches/termine/ende-1-semester
END:VEVENT
END:VCALENDAR
