BEGIN:VCALENDAR
VERSION:2.0
PRODID:-//Plone.org//NONSGML plone.app.event//EN
X-WR-TIMEZONE:Europe/Zurich
BEGIN:VEVENT
SUMMARY:Ende Probezeit 1. Gym
DTSTART;VALUE=DATE:20200123
DTEND;VALUE=DATE:20200125
DTSTAMP;VALUE=DATE-TIME:20260424T004420Z
UID:56faf18db0534fc3a5207b2079afa19e@127.0.0.1:10150
CREATED;VALUE=DATE-TIME:20190707T115905Z
LAST-MODIFIED;VALUE=DATE-TIME:20190707T115910Z
URL:https://gymnasium.ai.ch/nuetzliches/termine/ende-probezeit-1-gym
END:VEVENT
END:VCALENDAR
