BEGIN:VCALENDAR
VERSION:2.0
PRODID:-//Plone.org//NONSGML plone.app.event//EN
X-WR-TIMEZONE:Europe/Zurich
BEGIN:VEVENT
SUMMARY:Ende Probezeit 1. Klassen
DTSTART;VALUE=DATE:20260123
DTEND;VALUE=DATE:20260124
DTSTAMP;VALUE=DATE-TIME:20260424T004726Z
UID:b4e74b053b134fc8b3992fe8bda7bed4@127.0.0.1:6081
CREATED;VALUE=DATE-TIME:20250719T211817Z
LAST-MODIFIED;VALUE=DATE-TIME:20250719T211859Z
URL:https://gymnasium.ai.ch/nuetzliches/termine/ende-probezeit-1-klassen-1
END:VEVENT
END:VCALENDAR
