BEGIN:VCALENDAR
VERSION:2.0
PRODID:-//Plone.org//NONSGML plone.app.event//EN
X-WR-TIMEZONE:Europe/Zurich
BEGIN:VEVENT
SUMMARY:Ende Probezeit 1. Klassen
DTSTART;VALUE=DATE:20240119
DTEND;VALUE=DATE:20240120
DTSTAMP;VALUE=DATE-TIME:20260423T231339Z
UID:baecd01365fb465ca8e8b3c68aeda96f@127.0.0.1:6081
CREATED;VALUE=DATE-TIME:20230712T091355Z
LAST-MODIFIED;VALUE=DATE-TIME:20230712T091413Z
URL:https://gymnasium.ai.ch/nuetzliches/termine/ende-probezeit-1-klassen
END:VEVENT
END:VCALENDAR
