BEGIN:VCALENDAR
VERSION:2.0
PRODID:-//Plone.org//NONSGML plone.app.event//EN
X-WR-TIMEZONE:Europe/Zurich
BEGIN:VEVENT
SUMMARY:Ende Probezeit
DTSTART;VALUE=DATE:20180118
DTEND;VALUE=DATE:20180120
DTSTAMP;VALUE=DATE-TIME:20260423T231217Z
UID:a576b3fd9ca343ceaf0532a0e173b9f2@127.0.0.1:10150
CREATED;VALUE=DATE-TIME:20180109T141559Z
DESCRIPTION:Ende Probezeit 1. Klasse
LAST-MODIFIED;VALUE=DATE-TIME:20180109T141614Z
URL:https://gymnasium.ai.ch/nuetzliches/termine/ende-probezeit
END:VEVENT
END:VCALENDAR
