BEGIN:VCALENDAR
VERSION:2.0
PRODID:-//Plone.org//NONSGML plone.app.event//EN
X-WR-TIMEZONE:Europe/Zurich
BEGIN:VEVENT
SUMMARY:«Endspurt»
DTSTART;VALUE=DATE:20200701
DTEND;VALUE=DATE:20200703
DTSTAMP;VALUE=DATE-TIME:20260423T231220Z
UID:a641a10a64334a7298e74cdf69006f0d@127.0.0.1:10150
CREATED;VALUE=DATE-TIME:20200603T202119Z
LAST-MODIFIED;VALUE=DATE-TIME:20200603T202124Z
URL:https://gymnasium.ai.ch/nuetzliches/termine/endspurt
END:VEVENT
END:VCALENDAR
