BEGIN:VCALENDAR
VERSION:2.0
PRODID:-//Plone.org//NONSGML plone.app.event//EN
X-WR-TIMEZONE:Europe/Zurich
BEGIN:VEVENT
SUMMARY:Ergänzungsfach Schuljahr 2022/23: Anmeldeschluss für 4. Klassen
DTSTART;VALUE=DATE:20220120
DTEND;VALUE=DATE:20220122
DTSTAMP;VALUE=DATE-TIME:20260424T005823Z
UID:80e1d59829414132b385c233dc90229b@127.0.0.1:10150
CREATED;VALUE=DATE-TIME:20211024T113210Z
LAST-MODIFIED;VALUE=DATE-TIME:20211024T113218Z
URL:https://gymnasium.ai.ch/nuetzliches/termine/ergaenzungsfach-schuljahr-
 2022-23-anmeldeschluss-fuer-4-klassen
END:VEVENT
END:VCALENDAR
