BEGIN:VCALENDAR
VERSION:2.0
PRODID:-//Plone.org//NONSGML plone.app.event//EN
X-WR-TIMEZONE:Europe/Zurich
BEGIN:VEVENT
SUMMARY:Ergänzungsfach Schuljahr 2023/24: Anmeldeschluss für 4. Klassen
DTSTART;VALUE=DATE:20230127
DTEND;VALUE=DATE:20230128
DTSTAMP;VALUE=DATE-TIME:20260424T021943Z
UID:94da77886bef4ef7bbcb7ff90f99f270@127.0.0.1:6081
CREATED;VALUE=DATE-TIME:20220711T205000Z
LAST-MODIFIED;VALUE=DATE-TIME:20220711T205005Z
URL:https://gymnasium.ai.ch/nuetzliches/termine/ergaenzungsfach-schuljahr-
 2023-24-anmeldeschluss-fuer-4-klassen
END:VEVENT
END:VCALENDAR
