BEGIN:VCALENDAR
VERSION:2.0
PRODID:-//Plone.org//NONSGML plone.app.event//EN
X-WR-TIMEZONE:Europe/Zurich
BEGIN:VEVENT
SUMMARY:Ergänzungsfach
DTSTART;VALUE=DATE:20180118
DTEND;VALUE=DATE:20180120
DTSTAMP;VALUE=DATE-TIME:20260423T231357Z
UID:c8bfa8613ddb4a16a9f36242cbc487d7@127.0.0.1:10150
CREATED;VALUE=DATE-TIME:20180109T141133Z
DESCRIPTION:Ergänzungsfach+ Schuljahr 2018/19: Anmeldeschluss für 4. Kla
 sse
LAST-MODIFIED;VALUE=DATE-TIME:20180109T141154Z
URL:https://gymnasium.ai.ch/nuetzliches/termine/ergaenzungsfach
END:VEVENT
END:VCALENDAR
