BEGIN:VCALENDAR
VERSION:2.0
PRODID:-//Plone.org//NONSGML plone.app.event//EN
X-WR-TIMEZONE:Europe/Zurich
BEGIN:VEVENT
SUMMARY:Der Altstättertag findet nicht statt.
DTSTART;VALUE=DATE:20230509
DTEND;VALUE=DATE:20230510
DTSTAMP;VALUE=DATE-TIME:20260424T004414Z
UID:f68ce273cd96496c89c7f2faba3b9934@127.0.0.1:6081
CREATED;VALUE=DATE-TIME:20230501T085201Z
LAST-MODIFIED;VALUE=DATE-TIME:20230508T065816Z
URL:https://gymnasium.ai.ch/nuetzliches/termine/ev-altstaettertag-1
END:VEVENT
END:VCALENDAR
