BEGIN:VCALENDAR
VERSION:2.0
PRODID:-//Plone.org//NONSGML plone.app.event//EN
X-WR-TIMEZONE:Europe/Zurich
BEGIN:VEVENT
SUMMARY:Der Altstättertag findet nicht statt.
DTSTART;VALUE=DATE:20230516
DTEND;VALUE=DATE:20230517
DTSTAMP;VALUE=DATE-TIME:20260423T231342Z
UID:2cc2180778fb4c61bde35bebcfb83c87@127.0.0.1:6081
CREATED;VALUE=DATE-TIME:20230508T065231Z
LAST-MODIFIED;VALUE=DATE-TIME:20230515T071630Z
URL:https://gymnasium.ai.ch/nuetzliches/termine/ev-altstaettertag-2
END:VEVENT
END:VCALENDAR
