BEGIN:VCALENDAR
VERSION:2.0
PRODID:-//Plone.org//NONSGML plone.app.event//EN
X-WR-TIMEZONE:Europe/Zurich
BEGIN:VEVENT
SUMMARY:Altstättertag
DTSTART;VALUE=DATE:20230523
DTEND;VALUE=DATE:20230524
DTSTAMP;VALUE=DATE-TIME:20260423T231356Z
UID:6871b283598242d5bffcaf4d5a118833@127.0.0.1:6081
CREATED;VALUE=DATE-TIME:20230515T071457Z
LAST-MODIFIED;VALUE=DATE-TIME:20230522T064934Z
URL:https://gymnasium.ai.ch/nuetzliches/termine/ev-altstaettertag-3
END:VEVENT
END:VCALENDAR
