BEGIN:VCALENDAR
VERSION:2.0
PRODID:-//Plone.org//NONSGML plone.app.event//EN
X-WR-TIMEZONE:Europe/Zurich
BEGIN:VEVENT
SUMMARY:Altstättertag
DTSTART;VALUE=DATE:20250429
DTEND;VALUE=DATE:20250430
DTSTAMP;VALUE=DATE-TIME:20260423T231356Z
UID:d77646a7bd494c3f97a44af1d3d576a8@127.0.0.1:6081
CREATED;VALUE=DATE-TIME:20250226T074154Z
LAST-MODIFIED;VALUE=DATE-TIME:20250428T082053Z
URL:https://gymnasium.ai.ch/nuetzliches/termine/ev-altstaettertag-4
END:VEVENT
END:VCALENDAR
