BEGIN:VCALENDAR
VERSION:2.0
PRODID:-//Plone.org//NONSGML plone.app.event//EN
X-WR-TIMEZONE:Europe/Zurich
BEGIN:VEVENT
SUMMARY:Der Altstättertag findet nicht statt.
DTSTART;VALUE=DATE:20230502
DTEND;VALUE=DATE:20230503
DTSTAMP;VALUE=DATE-TIME:20260424T004608Z
UID:c722b4bbae184e53bc0082d9c080243a@127.0.0.1:6081
CREATED;VALUE=DATE-TIME:20230423T071711Z
LAST-MODIFIED;VALUE=DATE-TIME:20230501T085342Z
URL:https://gymnasium.ai.ch/nuetzliches/termine/ev-altstaettertag
END:VEVENT
END:VCALENDAR
