BEGIN:VCALENDAR
VERSION:2.0
PRODID:-//Plone.org//NONSGML plone.app.event//EN
X-WR-TIMEZONE:Europe/Zurich
BEGIN:VEVENT
SUMMARY:2. Wintersporttag
DTSTART;VALUE=DATE:20250218
DTEND;VALUE=DATE:20250219
DTSTAMP;VALUE=DATE-TIME:20260424T004414Z
UID:dd1ae19af56f406cac4769da08954551@127.0.0.1:6081
CREATED;VALUE=DATE-TIME:20250214T150718Z
LAST-MODIFIED;VALUE=DATE-TIME:20250217T075703Z
URL:https://gymnasium.ai.ch/nuetzliches/termine/ev-wintersporttag-1
END:VEVENT
END:VCALENDAR
