BEGIN:VCALENDAR
VERSION:2.0
PRODID:-//Plone.org//NONSGML plone.app.event//EN
X-WR-TIMEZONE:Europe/Zurich
BEGIN:VEVENT
SUMMARY:Wintersporttag
DTSTART;VALUE=DATE:20260210
DTEND;VALUE=DATE:20260211
DTSTAMP;VALUE=DATE-TIME:20260423T231341Z
UID:4252cde57aa545d9911e1f1a5a42fa19@127.0.0.1:6081
CREATED;VALUE=DATE-TIME:20250719T212741Z
LAST-MODIFIED;VALUE=DATE-TIME:20260209T073139Z
URL:https://gymnasium.ai.ch/nuetzliches/termine/ev-wintersporttag-2
END:VEVENT
END:VCALENDAR
