BEGIN:VCALENDAR
VERSION:2.0
PRODID:-//Plone.org//NONSGML plone.app.event//EN
X-WR-TIMEZONE:Europe/Zurich
BEGIN:VEVENT
SUMMARY:Wintersporttag
DTSTART;VALUE=DATE:20250204
DTEND;VALUE=DATE:20250205
DTSTAMP;VALUE=DATE-TIME:20260423T231345Z
UID:4d40951f72e642a891f62b670be4e546@127.0.0.1:6081
CREATED;VALUE=DATE-TIME:20240703T201353Z
LAST-MODIFIED;VALUE=DATE-TIME:20250203T080222Z
URL:https://gymnasium.ai.ch/nuetzliches/termine/ev-wintersporttag
END:VEVENT
END:VCALENDAR
