BEGIN:VCALENDAR
VERSION:2.0
PRODID:-//Plone.org//NONSGML plone.app.event//EN
X-WR-TIMEZONE:Europe/Zurich
BEGIN:VEVENT
SUMMARY:Altstättertag
DTSTART;VALUE=DATE:20240430
DTEND;VALUE=DATE:20240501
DTSTAMP;VALUE=DATE-TIME:20260424T004724Z
UID:2c17e541a29c48ffb8807018f2e05bd3@127.0.0.1:6081
CREATED;VALUE=DATE-TIME:20240202T160246Z
LAST-MODIFIED;VALUE=DATE-TIME:20240429T074436Z
URL:https://gymnasium.ai.ch/nuetzliches/termine/evtl-altstaettertag-1
END:VEVENT
END:VCALENDAR
