BEGIN:VCALENDAR
VERSION:2.0
PRODID:-//Plone.org//NONSGML plone.app.event//EN
X-WR-TIMEZONE:Europe/Zurich
BEGIN:VEVENT
SUMMARY:Der Bergtag findet nicht statt.
DTSTART;VALUE=DATE:20230829
DTEND;VALUE=DATE:20230830
DTSTAMP;VALUE=DATE-TIME:20260424T004228Z
UID:ac6fdd00b1824501b2d72658ce71c602@127.0.0.1:6081
CREATED;VALUE=DATE-TIME:20230712T082715Z
LAST-MODIFIED;VALUE=DATE-TIME:20230828T160526Z
URL:https://gymnasium.ai.ch/nuetzliches/termine/evtl-bergtag
END:VEVENT
END:VCALENDAR
