BEGIN:VCALENDAR
VERSION:2.0
PRODID:-//Plone.org//NONSGML plone.app.event//EN
X-WR-TIMEZONE:Europe/Zurich
BEGIN:VEVENT
SUMMARY:Wintersporttag
DTSTART;VALUE=DATE:20230228
DTEND;VALUE=DATE:20230301
DTSTAMP;VALUE=DATE-TIME:20260424T004725Z
UID:1d49b563f445405a89bb678c87b66388@127.0.0.1:6081
CREATED;VALUE=DATE-TIME:20230216T204950Z
LAST-MODIFIED;VALUE=DATE-TIME:20230227T090007Z
URL:https://gymnasium.ai.ch/nuetzliches/termine/evtl-wintersporttag-1
END:VEVENT
END:VCALENDAR
