BEGIN:VCALENDAR
VERSION:2.0
PRODID:-//Plone.org//NONSGML plone.app.event//EN
X-WR-TIMEZONE:Europe/Zurich
BEGIN:VEVENT
SUMMARY:evtl. Wintersporttag
DTSTART;VALUE=DATE:20240123
DTEND;VALUE=DATE:20240124
DTSTAMP;VALUE=DATE-TIME:20260424T004414Z
UID:ee3c15f6f83d4536a4a91195319c1b2a@127.0.0.1:6081
CREATED;VALUE=DATE-TIME:20230712T091535Z
LAST-MODIFIED;VALUE=DATE-TIME:20230712T091546Z
URL:https://gymnasium.ai.ch/nuetzliches/termine/evtl-wintersporttag-2
END:VEVENT
END:VCALENDAR
