BEGIN:VCALENDAR
VERSION:2.0
PRODID:-//Plone.org//NONSGML plone.app.event//EN
X-WR-TIMEZONE:Europe/Zurich
BEGIN:VEVENT
SUMMARY:Der Wintersporttag findet nicht statt.
DTSTART;VALUE=DATE:20230214
DTEND;VALUE=DATE:20230215
DTSTAMP;VALUE=DATE-TIME:20260424T004323Z
UID:674be9ce9dc24e639d3ba7a5b196f041@127.0.0.1:6081
CREATED;VALUE=DATE-TIME:20230213T075510Z
LAST-MODIFIED;VALUE=DATE-TIME:20230213T131125Z
URL:https://gymnasium.ai.ch/nuetzliches/termine/evtl-wintersporttag
END:VEVENT
END:VCALENDAR
