BEGIN:VCALENDAR
VERSION:2.0
PRODID:-//Plone.org//NONSGML plone.app.event//EN
X-WR-TIMEZONE:Europe/Zurich
BEGIN:VEVENT
SUMMARY:Exkursion Bundeshaus
DTSTART;VALUE=DATE:20180227
DTEND;VALUE=DATE:20180301
DTSTAMP;VALUE=DATE-TIME:20260423T231220Z
UID:bd99ae5ed44d4d21bd09d178abf3bd4d@127.0.0.1:10150
CREATED;VALUE=DATE-TIME:20180129T094021Z
DESCRIPTION:Exkursion Geschichte ins Bundeshaus (4. Klasse\, 07.00 – 18.
 30 Uhr\, Dominik Pérez)
LAST-MODIFIED;VALUE=DATE-TIME:20180129T094025Z
URL:https://gymnasium.ai.ch/nuetzliches/termine/exkursion-bundeshaus
END:VEVENT
END:VCALENDAR
