BEGIN:VCALENDAR
VERSION:2.0
PRODID:-//Plone.org//NONSGML plone.app.event//EN
X-WR-TIMEZONE:Europe/Zurich
BEGIN:VEVENT
SUMMARY:Exkursion Geschichte
DTSTART;VALUE=DATE:20180323
DTEND;VALUE=DATE:20180325
DTSTAMP;VALUE=DATE-TIME:20260423T231223Z
UID:2edc07b29f57455399584d866df4c0f2@127.0.0.1:10150
CREATED;VALUE=DATE-TIME:20180301T065209Z
DESCRIPTION:Exkursion Geschichte nach Dachau (Dominik Pérez)
LAST-MODIFIED;VALUE=DATE-TIME:20180301T065213Z
URL:https://gymnasium.ai.ch/nuetzliches/termine/exkursion-geschichte
END:VEVENT
END:VCALENDAR
