BEGIN:VCALENDAR
VERSION:2.0
PRODID:-//Plone.org//NONSGML plone.app.event//EN
X-WR-TIMEZONE:Europe/Zurich
BEGIN:VEVENT
SUMMARY:Experimentalvortrag von Jonas Schönle: Eine Reise durchs Perioden
 system
DTSTART;VALUE=DATE-TIME:20191119T190000Z
DTEND;VALUE=DATE-TIME:20191119T203000Z
DTSTAMP;VALUE=DATE-TIME:20260424T004725Z
UID:d959d1b1153b434994d42d2d69bea1eb@127.0.0.1:10150
CREATED;VALUE=DATE-TIME:20191023T093457Z
LAST-MODIFIED;VALUE=DATE-TIME:20191024T052320Z
LOCATION:Theatersaal Gymnasium St. Antonius
URL:https://gymnasium.ai.ch/nuetzliches/termine/experimentalvortrag-eine-r
 eise-durchs-periodensystem
END:VEVENT
END:VCALENDAR
