BEGIN:VCALENDAR
VERSION:2.0
PRODID:-//Plone.org//NONSGML plone.app.event//EN
X-WR-TIMEZONE:Europe/Zurich
BEGIN:VEVENT
SUMMARY:Fachlehrpersonenkonferenz
DTSTART;VALUE=DATE-TIME:20180326T151500Z
DTSTAMP;VALUE=DATE-TIME:20260423T231615Z
UID:93fa99e2e9304c97ba38914f0976b575@127.0.0.1:10150
CREATED;VALUE=DATE-TIME:20180301T065434Z
DESCRIPTION:Fachlehrpersonenkonferenz : 1. Klasse (17.15 Uhr\, Plenarsaal 
 1. OG Mitteltrakt)
LAST-MODIFIED;VALUE=DATE-TIME:20180301T065438Z
URL:https://gymnasium.ai.ch/nuetzliches/termine/fachlehrpersonenkonferenz-
 1
END:VEVENT
END:VCALENDAR
