BEGIN:VCALENDAR
VERSION:2.0
PRODID:-//Plone.org//NONSGML plone.app.event//EN
X-WR-TIMEZONE:Europe/Zurich
BEGIN:VEVENT
SUMMARY:Fachlehrpersonenkonferenz
DTSTART;VALUE=DATE-TIME:20180328T091500Z
DTSTAMP;VALUE=DATE-TIME:20260423T231542Z
UID:a4f0cd526910417e9f9daeb9593d8754@127.0.0.1:10150
CREATED;VALUE=DATE-TIME:20180301T065650Z
DESCRIPTION:Fachlehrpersonenkonferenz: 5. Klasse (11.15 Uhr\, Plenarsaal 1
 . OG Mitteltrakt)
LAST-MODIFIED;VALUE=DATE-TIME:20180301T065653Z
URL:https://gymnasium.ai.ch/nuetzliches/termine/fachlehrpersonenkonferenz-
 2
END:VEVENT
END:VCALENDAR
