BEGIN:VCALENDAR
VERSION:2.0
PRODID:-//Plone.org//NONSGML plone.app.event//EN
X-WR-TIMEZONE:Europe/Zurich
BEGIN:VEVENT
SUMMARY:Fremdsprachenaufenthalt (4. Klassen): Abgabetermin Anmeldeformular
  (17.00 Uhr)
DTSTART;VALUE=DATE:20240920
DTEND;VALUE=DATE:20240921
DTSTAMP;VALUE=DATE-TIME:20260424T020608Z
UID:e05bffd3eea0427689ee30f104e764e9@127.0.0.1:6081
CREATED;VALUE=DATE-TIME:20240703T204951Z
LAST-MODIFIED;VALUE=DATE-TIME:20240703T204956Z
URL:https://gymnasium.ai.ch/nuetzliches/termine/fremdsprachenaufenthalt-4-
 klassen-abgabetermin-anmeldeformular-17-00-uhr
END:VEVENT
END:VCALENDAR
