BEGIN:VCALENDAR
VERSION:2.0
PRODID:-//Plone.org//NONSGML plone.app.event//EN
X-WR-TIMEZONE:Europe/Zurich
BEGIN:VEVENT
SUMMARY:Fronleichnam (schulfrei)
DTSTART;VALUE=DATE:20200610
DTEND;VALUE=DATE:20200612
DTSTAMP;VALUE=DATE-TIME:20260423T231525Z
UID:c057e06c8eaf46799883be3137401f85@127.0.0.1:10150
CREATED;VALUE=DATE-TIME:20200520T080056Z
LAST-MODIFIED;VALUE=DATE-TIME:20200520T080103Z
URL:https://gymnasium.ai.ch/nuetzliches/termine/fronleichnam-schulfrei-2
END:VEVENT
END:VCALENDAR
