BEGIN:VCALENDAR
VERSION:2.0
PRODID:-//Plone.org//NONSGML plone.app.event//EN
X-WR-TIMEZONE:Europe/Zurich
BEGIN:VEVENT
SUMMARY:Fronleichnam (schulfrei)
DTSTART;VALUE=DATE:20210602
DTEND;VALUE=DATE:20210604
DTSTAMP;VALUE=DATE-TIME:20260424T004732Z
UID:6d4db4c0e05a4a069b5ad0c68820fd31@127.0.0.1:10150
CREATED;VALUE=DATE-TIME:20210417T142727Z
LAST-MODIFIED;VALUE=DATE-TIME:20210417T142733Z
URL:https://gymnasium.ai.ch/nuetzliches/termine/fronleichnam-schulfrei-3
END:VEVENT
END:VCALENDAR
