BEGIN:VCALENDAR
VERSION:2.0
PRODID:-//Plone.org//NONSGML plone.app.event//EN
X-WR-TIMEZONE:Europe/Zurich
BEGIN:VEVENT
SUMMARY:Fronleichnam (schulfrei)
DTSTART;VALUE=DATE:20220615
DTEND;VALUE=DATE:20220617
DTSTAMP;VALUE=DATE-TIME:20260424T004732Z
UID:906dc037731848588985874b51adb1ae@127.0.0.1:10150
CREATED;VALUE=DATE-TIME:20220118T130451Z
LAST-MODIFIED;VALUE=DATE-TIME:20220118T130454Z
URL:https://gymnasium.ai.ch/nuetzliches/termine/fronleichnam-schulfrei-4
END:VEVENT
END:VCALENDAR
