BEGIN:VCALENDAR
VERSION:2.0
PRODID:-//Plone.org//NONSGML plone.app.event//EN
X-WR-TIMEZONE:Europe/Zurich
BEGIN:VEVENT
SUMMARY:Fronleichnam (schulfrei)
DTSTART;VALUE=DATE:20230608
DTEND;VALUE=DATE:20230609
DTSTAMP;VALUE=DATE-TIME:20260424T004730Z
UID:38ecca843fb54221974de16c8fdf7526@127.0.0.1:6081
CREATED;VALUE=DATE-TIME:20221012T164323Z
LAST-MODIFIED;VALUE=DATE-TIME:20221012T164357Z
URL:https://gymnasium.ai.ch/nuetzliches/termine/fronleichnam-schulfrei-5
END:VEVENT
END:VCALENDAR
