BEGIN:VCALENDAR
VERSION:2.0
PRODID:-//Plone.org//NONSGML plone.app.event//EN
X-WR-TIMEZONE:Europe/Zurich
BEGIN:VEVENT
SUMMARY:Fronleichnam (schulfrei)
DTSTART;VALUE=DATE:20250619
DTEND;VALUE=DATE:20250620
DTSTAMP;VALUE=DATE-TIME:20260423T231543Z
UID:5a8f676845a847ac9c0907d20eee156c@127.0.0.1:6081
CREATED;VALUE=DATE-TIME:20240927T145404Z
LAST-MODIFIED;VALUE=DATE-TIME:20240927T145411Z
URL:https://gymnasium.ai.ch/nuetzliches/termine/fronleichnam-schulfrei-6
END:VEVENT
END:VCALENDAR
