BEGIN:VCALENDAR
VERSION:2.0
PRODID:-//Plone.org//NONSGML plone.app.event//EN
X-WR-TIMEZONE:Europe/Zurich
BEGIN:VEVENT
SUMMARY:Fronleichnam (schulfrei)
DTSTART;VALUE=DATE:20260604
DTEND;VALUE=DATE:20260605
DTSTAMP;VALUE=DATE-TIME:20260424T004730Z
UID:38699bee44cb40c78e13e5ed67d490ab@127.0.0.1:6081
CREATED;VALUE=DATE-TIME:20250720T190525Z
LAST-MODIFIED;VALUE=DATE-TIME:20250720T190535Z
URL:https://gymnasium.ai.ch/nuetzliches/termine/fronleichnam-schulfrei-7
END:VEVENT
END:VCALENDAR
