BEGIN:VCALENDAR
VERSION:2.0
PRODID:-//Plone.org//NONSGML plone.app.event//EN
X-WR-TIMEZONE:Europe/Zurich
BEGIN:VEVENT
SUMMARY:Fronleichnam (schulfrei)
DTSTART;VALUE=DATE:20180530
DTEND;VALUE=DATE:20180601
DTSTAMP;VALUE=DATE-TIME:20260423T231525Z
UID:6ae0998f6c6a4273b46273ee83970d76@127.0.0.1:10150
CREATED;VALUE=DATE-TIME:20180307T093741Z
LAST-MODIFIED;VALUE=DATE-TIME:20180511T064310Z
URL:https://gymnasium.ai.ch/nuetzliches/termine/fronleichnam-schulfrei
END:VEVENT
END:VCALENDAR
