BEGIN:VCALENDAR
VERSION:2.0
PRODID:-//Plone.org//NONSGML plone.app.event//EN
X-WR-TIMEZONE:Europe/Zurich
BEGIN:VEVENT
SUMMARY:Frühlingsferien
DTSTART;VALUE=DATE:20190405
DTEND;VALUE=DATE:20190422
DTSTAMP;VALUE=DATE-TIME:20260424T004253Z
UID:ecf393f3cd914bf6920352ebea470a0a@127.0.0.1:10150
CREATED;VALUE=DATE-TIME:20190401T150444Z
LAST-MODIFIED;VALUE=DATE-TIME:20190401T150449Z
URL:https://gymnasium.ai.ch/nuetzliches/termine/fruehlingsferien-1
END:VEVENT
END:VCALENDAR
