BEGIN:VCALENDAR
VERSION:2.0
PRODID:-//Plone.org//NONSGML plone.app.event//EN
X-WR-TIMEZONE:Europe/Zurich
BEGIN:VEVENT
SUMMARY:Frühlingsferien
DTSTART;VALUE=DATE:20200403
DTEND;VALUE=DATE:20200420
DTSTAMP;VALUE=DATE-TIME:20260423T231242Z
UID:8c6f9eeb4bae4889927b906c7fea70e9@127.0.0.1:10150
CREATED;VALUE=DATE-TIME:20191030T151354Z
LAST-MODIFIED;VALUE=DATE-TIME:20191030T151358Z
URL:https://gymnasium.ai.ch/nuetzliches/termine/fruehlingsferien-2
END:VEVENT
END:VCALENDAR
