BEGIN:VCALENDAR
VERSION:2.0
PRODID:-//Plone.org//NONSGML plone.app.event//EN
X-WR-TIMEZONE:Europe/Zurich
BEGIN:VEVENT
SUMMARY:Frühlingsferien
DTSTART;VALUE=DATE:20210409
DTEND;VALUE=DATE:20210426
DTSTAMP;VALUE=DATE-TIME:20260423T231317Z
UID:c930669ad97042a8a5ebf9668ad37c50@127.0.0.1:10150
CREATED;VALUE=DATE-TIME:20210408T163253Z
LAST-MODIFIED;VALUE=DATE-TIME:20210408T163258Z
URL:https://gymnasium.ai.ch/nuetzliches/termine/fruehlingsferien-3
END:VEVENT
END:VCALENDAR
