BEGIN:VCALENDAR
VERSION:2.0
PRODID:-//Plone.org//NONSGML plone.app.event//EN
X-WR-TIMEZONE:Europe/Zurich
BEGIN:VEVENT
SUMMARY:Frühlingsferien
DTSTART;VALUE=DATE:20220408
DTEND;VALUE=DATE:20220425
DTSTAMP;VALUE=DATE-TIME:20260423T231316Z
UID:85e4b5a1d2db404c97af2601495bb3c7@127.0.0.1:10150
CREATED;VALUE=DATE-TIME:20220118T121842Z
LAST-MODIFIED;VALUE=DATE-TIME:20220118T121846Z
URL:https://gymnasium.ai.ch/nuetzliches/termine/fruehlingsferien-4
END:VEVENT
END:VCALENDAR
