BEGIN:VCALENDAR
VERSION:2.0
PRODID:-//Plone.org//NONSGML plone.app.event//EN
X-WR-TIMEZONE:Europe/Zurich
BEGIN:VEVENT
SUMMARY:Frühlingsferien
DTSTART;VALUE=DATE:20240406
DTEND;VALUE=DATE:20240422
DTSTAMP;VALUE=DATE-TIME:20260424T004324Z
UID:cc1f8e59311b41cdb84629a628defa90@127.0.0.1:6081
CREATED;VALUE=DATE-TIME:20230714T060951Z
LAST-MODIFIED;VALUE=DATE-TIME:20230714T061005Z
URL:https://gymnasium.ai.ch/nuetzliches/termine/fruehlingsferien-6
END:VEVENT
END:VCALENDAR
