BEGIN:VCALENDAR
VERSION:2.0
PRODID:-//Plone.org//NONSGML plone.app.event//EN
X-WR-TIMEZONE:Europe/Zurich
BEGIN:VEVENT
SUMMARY:Frühlingsferien
DTSTART;VALUE=DATE:20250405
DTEND;VALUE=DATE:20250421
DTSTAMP;VALUE=DATE-TIME:20260423T231315Z
UID:e36310ed39834fa49d971baa2f1fb747@127.0.0.1:6081
CREATED;VALUE=DATE-TIME:20240927T152634Z
LAST-MODIFIED;VALUE=DATE-TIME:20240927T152644Z
URL:https://gymnasium.ai.ch/nuetzliches/termine/fruehlingsferien-7
END:VEVENT
END:VCALENDAR
