BEGIN:VCALENDAR
VERSION:2.0
PRODID:-//Plone.org//NONSGML plone.app.event//EN
X-WR-TIMEZONE:Europe/Zurich
BEGIN:VEVENT
SUMMARY:Frühlingsferien
DTSTART;VALUE=DATE:20260404
DTEND;VALUE=DATE:20260420
DTSTAMP;VALUE=DATE-TIME:20260423T231312Z
UID:fd3969a2d84647788cdcab6aa3719d41@127.0.0.1:6081
CREATED;VALUE=DATE-TIME:20250720T191931Z
LAST-MODIFIED;VALUE=DATE-TIME:20250720T191937Z
URL:https://gymnasium.ai.ch/nuetzliches/termine/fruehlingsferien-8
END:VEVENT
END:VCALENDAR
