BEGIN:VCALENDAR
VERSION:2.0
PRODID:-//Plone.org//NONSGML plone.app.event//EN
X-WR-TIMEZONE:Europe/Zurich
BEGIN:VEVENT
SUMMARY:Frühlingsferien
DTSTART;VALUE=DATE-TIME:20180407T080000Z
DTEND;VALUE=DATE-TIME:20180422T090000Z
DTSTAMP;VALUE=DATE-TIME:20260424T004230Z
UID:c1c637187557423496b24fa7798e11bf@127.0.0.1:10150
CREATED;VALUE=DATE-TIME:20180307T092717Z
LAST-MODIFIED;VALUE=DATE-TIME:20180308T065055Z
URL:https://gymnasium.ai.ch/nuetzliches/termine/fruehlingsferien
END:VEVENT
END:VCALENDAR
